Workbook

Sheet LOCAL
B2: DATA | C2: 42545 | D2: 42546 | E2: 42547 | F2: 42548 | G2: 42549 | H2: 42550 | I2: 42551 | J2: 42552 | K2: 42553 | L2: 42554 | M2: 42555 | N2: 42556 | O2: 42557 | P2: 42558 | Q2: 42559 | R2: 42560 | S2: 42561 | T2: 42562 | U2: 42563 | V2: 42564 | W2: 42565 | X2: 42566 | Y2: 42567 | Z2: 42568 | AA2: 42569 | AB2: 42570 | AC2: 42571 | AD2: 42572 | AE2: 42573
B3: 00h00 | C3: INÍCIO | D3: =C26 -> 1900 HOSTEL | E3: =D25 -> ÔNIBUS LIMA X HUARAZ | F3: =E24 -> ALPAMAYO HOTE | G3: =F25 -> ALPAMAYO HOTE | H3: =G24 -> HUARAZ X TRUJILLO | I3: =H19 -> TRUJILLO X CHACHAPOYAS | J3: =I21 -> HOME BACKPECKERS HOSTEL | K3: =J21 -> HOME BACKPECKERS HOSTEL | L3: =K14 -> CHACHAPOYAS X LIMA (22h) | M3: =L19 -> HOTEL CASA ARENA | N3: =M23 -> HOTEL CASA ARENA | O3: =N23 -> ICA X AREQUIPA (12h) CRUZ DEL SUL | P3: =O23 -> HOTEL AFEQUIPA | Q3: =P7 -> CANYON COLCA | R3: =Q3 -> CANYON COLCA | S3: =R24 -> AREQUIPA X PUNO | T3: =S22 -> HOTEL EM PUNO | U3: =T25 -> PUNO X CUSCO | V3: =U23 -> HOTEL INKAS GARDEN | W3: =V23 -> HOTEL INKAS GARDEN | X3: =W22 -> HOSTEL ÁGUAS CALIENTES | Y3: =X21 -> HOSTEL ÁGUAS CALIENTES | Z3: =Y26 -> HOTEL EL IMPERIO | AA3: =Z22 -> HOTEL EL IMPERIO | AB3: =AA22 -> HOTEL EL IMPERIO | AC3: =AB17 -> CUSCO X LIMA (CRUZ DEL SUL) 21h00 | AD3: =AC22 -> GRAN HOTEL | AE3: =AD23 -> AEROPORTO DE SÃO PAULO GRU
B4: 01h00
B5: 02h00 | C5: AEROPORTO NATAL
B6: 03h00 | C6: VOO NATAL X SÃO PAULO JJ3351 LATAM 03h10
B7: 04h00 | P7: CANYON COLCA | S7: HOTEL EM PUNO | AA7: MONTANHAS COLORIDAS
B8: 05h00 | H8: RUÍNAS DE CHAN CHAN | X8: MATCHU PICCHU
B9: 06h00 | F9: LAGUNA 69 | G9: DESCANÇO | U9: HOTEL INKAS GARDEN
B10: 07h00 | C10: RUA 25 DE MARÇO X AV LIBERDADE ( CHINESA) X PARQUE IBIRAPUERA | N10: ILHAS BALLESTES E PARQUE EM PARACAS | T10: ILHA TAQUILE | V10: VALE SAGRADO | W10: CUSCO X ÁGUAS CALIENTES (HIDRELÉTRICA) | AD10: AEROPORTO LIMA | AE10: VOO SÃO PAULO X NATAL JJ3306 LATAM 03h14
B11: 08h00 | I11: RUÍNAS DE KULEAP | J11: CACHOEIRA GOCTA | AD11: VOO LIMA X SÃO PAULO LA2767 LATAM 04h55
B12: 09h00 | E12: NEVADO PASTORURI | O12: CIDADE DE AREQUIPA
B13: 10h00 | D13: CONHECENDO LIMA | L13: LIMA X ICA X HUACACHINA (5h00) | Z13: RAFIT E TIROLESA
B14: 11h00 | K14: CHACHAPOYAS X LIMA (22h) | AB14: DESPEDIDA DE CUSCO | AE14: FIM
B15: 12h00 | S15: CIDADE DE PUNO | U15: CUSCO CIDADE | Y15: ÁGUAS CALIENTES X CUSCO (HIDRELÉTRICA)
B16: 13h00
B17: 14h00 | AB17: CUSCO X LIMA (CRUZ DEL SUL) 21h00 | AC17: COMPRAS
B18: 15h00
B19: 16h00 | H19: TRUJILLO X CHACHAPOYAS | L19: HOTEL CASA ARENA | M19: PASSEIO DE BUGGRY DUNAS DO OÁSIS DE ICA | S19: ILHAS UROS
B20: 17h00
B21: 18h00 | C21: AEROPORTO SÃO PAULO | I21: HOME BACKPECKERS HOSTEL | J21: =J3 -> HOME BACKPECKERS HOSTEL | N21: =N3 -> HOTEL CASA ARENA | R21: =P3 -> HOTEL AFEQUIPA | T21: =T3 -> HOTEL EM PUNO | X21: =X3 -> HOSTEL ÁGUAS CALIENTES
B22: 19h00 | C22: VOO SÃO PAULO X LIMA LA2766 LATAM 05h15 | S22: =S7 -> HOTEL EM PUNO | W22: HOSTEL ÁGUAS CALIENTES | Z22: =Z3 -> HOTEL EL IMPERIO | AA22: =AA3 -> HOTEL EL IMPERIO | AC22: GRAN HOTEL
B23: 20h00 | M23: =M3 -> HOTEL CASA ARENA | N23: ICA X AREQUIPA (12h) CRUZ DEL SUL | O23: HOTEL AFEQUIPA | U23: =U9 -> HOTEL INKAS GARDEN | V23: =V3 -> HOTEL INKAS GARDEN | AD23: AEROPORTO DE SÃO PAULO GRU
B24: 21h00 | E24: ALPAMAYO HOTE | G24: HUARAZ X TRUJILLO | R24: AREQUIPA X PUNO
B25: 22h00 | D25: ÔNIBUS LIMA X HUARAZ | F25: =F3 -> ALPAMAYO HOTE | T25: PUNO X CUSCO
B26: 23h00 | C26: 1900 HOSTEL | Y26: HOTEL EL IMPERIO
B27: TOTAL | C27: =GASTOS!E3 -> 1082.525 | D27: =GASTOS!F3 -> 336.949 | E27: =GASTOS!G3 -> 240.5 | F27: =GASTOS!H3 -> 111 | G27: =GASTOS!I3 -> 46 | H27: =GASTOS!J3 -> 46.2 | I27: =GASTOS!K3 -> 259 | J27: =GASTOS!L3 -> 73 | ... AE27: =GASTOS!AG3 -> 0

Sheet GASTOS
B2: PERU JUN/JUL 2016 - 28 DIAS | E2: 42545 | F2: 42546 | G2: 42547 | H2: 42548 | I2: 42549 | J2: 42550 | K2: 42551 | L2: 42552 | M2: 42553 | N2: 42554 | O2: 42555 | P2: 42556 | Q2: 42557 | R2: 42558 | S2: 42559 | T2: 42560 | U2: 42561 | V2: 42562 | W2: 42563 | X2: 42564 | Y2: 42565 | Z2: 42566 | AA2: 42567 | AB2: 42568 | AC2: 42569 | AD2: 42570 | AE2: 42571 | AF2: 42572 | AG2: 42573
B3: TOTAL EM REAIS | D3: =(D4+D9+D14+D18+D23)/0.95 -> 6128.42 | E3: =E4+E9+E14+E18+E23 -> 1082.525 | F3: =F4+F9+F14+F18+F23 -> 336.949 | G3: =G4+G9+G14+G18+G23 -> 240.5 | H3: =H4+H9+H14+H18+H23 -> 111 | I3: =I4+I9+I14+I18+I23 -> 46 | J3: =J4+J9+J14+J18+J23 -> 46.2 | K3: =K4+K9+K14+K18+K23 -> 259 | L3: =L4+L9+L14+L18+L23 -> 73 | ... AG3: =AG4+AG9+AG14+AG18+AG23 -> 0
B4: TRANSPORTES | C4: MÉDIA / DIA | D4: =SUM(D5:D8) -> 2927.901 | E4: =SUM(E5:E8) -> 1082.525 | F4: =SUM(F5:F8) -> 84.951 | G4: =SUM(G5:G8) -> 100 | H4: =SUM(H5:H8) -> 8 | I4: =SUM(I5:I8) -> 0 | J4: =SUM(J5:J8) -> 10.4 | K4: =SUM(K5:K8) -> 130 | ... AG4: =SUM(AG5:AG8) -> 0
B5: CARRO | C5: =D5/28 -> 2.2142857 | D5: =SUM(E5:AG5) -> 62 | F5: 15 | J5: =3+6 -> 9 | N5: =5 -> 5 | P5: 3 | Q5: 2.5 | U5: 2 | V5: 2 | AA5: 5 | AE5: 7.5 | AF5: 11
B6: LOTAÇÃO | C6: =D6/28 -> 0 | D6: =SUM(E6:AG6) -> 0
B7: ONIBUS | C7: =D7/28 -> 25.030393 | D7: =SUM(E7:AG7) -> 700.851 | F7: =21*3.331 -> 69.951 | G7: 100 | H7: 8 | J7: 1.4 | K7: 130 | N7: 35 | P7: 80 | Q7: 30 | U7: 60 | V7: 1.5 | W7: 185
B8: AÉRIO | C8: =D8/28 -> 77.323214 | D8: =SUM(E8:AG8) -> 2165.05 | E8: =1139.5*0.95 -> 1082.525 | AF8: =1139.5*0.95 -> 1082.525
B9: ALIMENTAÇÃO | C9: =D9/28 -> 28.989286 | D9: =SUM(D10:D13) -> 811.7 | E9: =SUM(E10:E13) -> 0 | F9: =SUM(F10:F13) -> 20.5 | G9: =SUM(G10:G13) -> 42.5 | H9: =SUM(H10:H13) -> 33 | I9: =SUM(I10:I13) -> 36 | J9: =SUM(J10:J13) -> 24.5 | K9: =SUM(K10:K13) -> 38 | ... AG9: =SUM(AG10:AG13) -> 0
B10: CAFÉ | C10: =D10/28 -> 1.2142857 | D10: =SUM(E10:AG10) -> 34 | G10: 5.5 | H10: 8 | I10: 8 | J10: 5 | M10: 7.5
B11: ALMOÇO | C11: =D11/28 -> 11.017857 | D11: =SUM(E11:AG11) -> 308.5 | F11: 8 | G11: 20 | I11: 8 | J11: 6 | K11: 15 | L11: 5 | N11: 30 | O11: 10 | P11: 35 | Q11: 15 | T11: 33 | U11: 18 | V11: 22.5 | W11: 15 | Y11: 12.5 | AA11: 20.5 | AD11: 35
B12: JANTAR | C12: =D12/28 -> 4.8928571 | D12: =SUM(E12:AG12) -> 137 | G12: 9 | H12: 24 | I12: 20 | K12: 17 | Z12: 32 | AC12: 35
B13: LANCHE | C13: =D13/28 -> 11.864286 | D13: =SUM(E13:AG13) -> 332.2 | F13: =5+1+4+2.5 -> 12.5 | G13: =7+1 -> 8 | H13: =1 -> 1 | J13: =7.5+6 -> 13.5 | K13: 6 | L13: =3+10 -> 13 | M13: 2.5 | O13: 18 | P13: =2+2.5 -> 4.5 | Q13: 13 | S13: =2+7 -> 9 | U13: =4+2+10+7 -> 23 | W13: =2.5+11+23 -> 36.5 | X13: =4+10.5 -> 14.5 | Y13: 21 | Z13: =34.5+3 -> 37.5 | AA13: =3+2.5 -> 5.5 | AB13: =23+2 -> 25 | AC13: =3+10 -> 13 | AD13: =2.5 -> 2.5 | AE13: =1.95+8+14.5 -> 24.45 | AF13: =8+20.25 -> 28.25
B14: HOSPEDAGEM | C14: =D14/28 -> 14.642857 | D14: =SUM(D15:D17) -> 410 | E14: =SUM(E15:E17) -> 0 | F14: =SUM(F15:F17) -> 31 | G14: =SUM(G15:G17) -> 20 | H14: =SUM(H15:H17) -> 20 | I14: =SUM(I15:I17) -> 10 | J14: =SUM(J15:J17) -> 0 | K14: =SUM(K15:K17) -> 15 | ... AG14: =SUM(AG15:AG17) -> 0
B15: HOTEL | C15: =D15/28 -> 14.642857 | D15: =SUM(E15:AG15) -> 410 | F15: 31 | G15: 20 | H15: 20 | I15: 10 | K15: 15 | L15: 15 | N15: 20 | O15: 20 | Q15: 25 | U15: 15 | W15: 50 | Y15: 50 | AB15: 99 | AD15: 20
B16: CASA | C16: =D16/28 -> 0 | D16: =SUM(E16:AG16) -> 0
B17: CAMPING | C17: =D17/28 -> 0 | D17: =SUM(E17:AG17) -> 0
B18: PASSEIOS | C18: =D18/28 -> 43.614214 | D18: =SUM(D19:D22) -> 1221.198 | E18: =SUM(E19:E22) -> 0 | F18: =SUM(F19:F22) -> 193.198 | G18: =SUM(G19:G22) -> 47 | H18: =SUM(H19:H22) -> 50 | I18: =SUM(I19:I22) -> 0 | J18: =SUM(J19:J22) -> 10 | K18: =SUM(K19:K22) -> 55 | ... AG18: =SUM(AG19:AG22) -> 0
B19: CITY TOURS | C19: =D19/28 -> 0 | D19: =SUM(E19:AG19) -> 0
B20: TRILHAS/PASSEIOS | C20: =D20/28 -> 29.5 | D20: =SUM(E20:AG20) -> 826 | G20: 30 | H20: 40 | K20: 35 | L20: 30 | N20: 44 | O20: 55 | P20: 18 | Q20: 145 | U20: 15 | V20: 33 | W20: 340 | Z20: 25 | AB20: 6 | AC20: 10
B21: EVENTOS | C21: =D21/28 -> 0 | D21: =SUM(E21:AG21) -> 0
B22: ENTRADAS | C22: =D22/28 -> 14.114214 | D22: =SUM(E22:AG22) -> 395.198 | F22: =58*3.331 -> 193.198 | G22: =10+7 -> 17 | H22: 10 | J22: 10 | K22: 20 | L22: =10 -> 10 | R22: 40 | T22: 15 | X22: =10+70 -> 80
B23: COMPRAS | C23: =D23/28 -> 16.114286 | D23: =SUM(D24:D27) -> 451.2 | E23: =SUM(E24:E27) -> 0 | F23: =SUM(F24:F27) -> 7.3 | G23: =SUM(G24:G27) -> 31 | H23: =SUM(H24:H27) -> 0 | I23: =SUM(I24:I27) -> 0 | J23: =SUM(J24:J27) -> 1.3 | K23: =SUM(K24:K27) -> 21 | ... AG23: =SUM(AG24:AG27) -> 0
B24: LEMBRANÇAS | C24: =D24/28 -> 5.6642857 | D24: =SUM(E24:AG24) -> 158.6 | V24: 10 | AE24: =32+8+47.8+60.8 -> 148.6
B25: ROUPAS | C25: =D25/28 -> 8.1428571 | D25: =SUM(E25:AG25) -> 228 | G25: =20 -> 20 | U25: 30 | W25: 95 | X25: 60 | AE25: 23
B26: CALÇADOS | C26: =D26/28 -> 0 | D26: =SUM(E26:AG26) -> 0
B27: COMODIDADE | C27: =D27/28 -> 2.3071429 | D27: =SUM(E27:AG27) -> 64.6 | F27: =1.5+5.8 -> 7.3 | G27: =3+2+6 -> 11 | J27: 1.3 | K27: 21 | U27: 7 | V27: =6+7 -> 13 | AA27: 4
B29: OBS: VALORES EM NEGRITO FORAM GASTOS EM OUTRA MOEDA E CONVERTIDOS PARA NUEVOS SOLES (R$ x S/. 0.95) | ($ x S/. 3,331)

Sheet CÂMBIO
B2: TABELA DE CÁLCULO | F2: TABELA DE CÂMBIO
B3: REAIS R$ | C3: DOLAR $$ | D3: SOLES /$ | F3: PRÉ CONVERSÃO | H3: CONVERTIDO | J3: DETALHES
B4: 3.51 | C4: 1 | D4: 3.317 | F4: VALOR | G4: MOEDA | H4: VALOR | I4: MOEDA | J4: CÂMBIO | K4: IOF | L4: LOCAL | M4: DATA
C5: =B5/B4 -> 0 | D5: =C5*D4 -> 0 | F5: 5677.78 | G5: REAIS | H5: 1600 | I5: DÓLARES | J5: 3.51 | K5: 61.78 | L5: NATAL - RN | M5: 23/06/2016 QUI
B6: =C6*B4 -> 0 | C6: 0 | D6: =C6*D4 -> 0 | F6: 1000 | G6: DÓLARES | H6: 3317 | I6: SOLES | J6: 3.317 | K6: 0 | L6: LIMA-PE | M6: 25/06/2016 SAB
B7: =C7*B4 -> 5.8200181 | C7: =D7/D4 -> 1.6581248 | D7: 5.5 | F7: 100 | G7: DÓLARES | H7: 328 | I7: SOLES | J7: 3.28 | K7: 0 | L7: LIMA-PE | M7: 20/07/2016 QUA

Sheet ROTEIROS E DICAS
B2: ROTEIRO MOCHILÃO
B3: CIDADE | C3: O QUE FAZER | D3: NOTA | E3: OBSERVAÇÕES
B4: LIMA | C4: CONHECER PLAZA DE ARMAS | D4: 8 | E4: PASSEIO PADRÃO PARA TODO MUNDO NÃO FIZ O CITY TUOR DEIXEI PRO FINAL, MAS VI Q N IA VALER A PENA PRA MIN POR CONTA DO TEMPO
B5: HUARAZ | C5: NEVADO PASTORURI | D5: 8 | E5: CHEGA-SE DE ONIBUS AOS 4.800m DE ALTITUDE E CAMINHAMOS EM TORNO DE 1km PARA ATINGIR OS 5.000m, PRECISA ESTAR ACLIMATADO, NÃO ESTAVAMOS PASSAMOS MAL E EU VOMITEI.
B6: HUARAZ | C6: LAGUNA 69 | D6: 10 | E6: 3h DE CAMINHADA, MAS VALE MUITO A PENA, LEMBRANDO QUE ESTÁ A 4.500m DE ALTITUDE PRECISA ESTAR ACLIMATADO OU VAI PASSAR MAL
B7: TRUJILLO | C7: RUÍNAS DE CHAN CHAN | D7: 7 | E7: FIZ POR QUE ESTAVA DE PASSAGEM NA CIDADE, NESTE CASO VALE A PENA RUÍNAS DE AREIA
B8: CHACHAPOYAS | C8: GOCTA 3ª CACHOEIRA MAIOR DO MUNDO | D8: 8 | E8: POIS, NÃO TIVEMOS ACESSO A 2ª QUEDA POR CONTA DA MORTE DE UM COREANO, PROVAVELMENTE SERIA NOTA 10
B9: CHACHAPOYAS | C9: RUÍNAS DE KUELAP 2ª MATCHU PICCHU | D9: 9 | E9: UMA MATCHU PICCHU DIFERENTE E MENOS POPULAR
B10: ICA | C10: PASSEIO DE BUGGY | D10: 10 | E10: PRA QUEM JÁ FOI EM NATAL-RN, ESTE PASSEIO É MELHOR , MUITO BOM APENAS 2h MAS VALE MUITO A PENA
B11: ICA | C11: ILHAS BALLESTES E RESERVA DE PARACAS | D11: 8 | E11: DA PRA VER GOLFINHOS , FOCAS E MUITAS AVES PRA QUEM GOSTA DE PASEIO DE BARCO É UMA BOA OPÇÃO
B12: AREQUIPA | C12: CANYON COLCA EM CHIVAY | D12: 9 | E12: O CANYON É MARAVILHOSO, MAS NÃO RECOMENDO O PASSEIO QUE FIZEMOS DE 3 DIAS, FICA 2 DIAS MUITO PARADOS, O 3º DIA É O MELHOR DA PRA FAZER EM UM OU 2 DIAS, TAMBÉM DA PRA FAZER O VULCÃO MISTI NÃO FIZEMOS POR QUE SÃO 5.800m DE ALTITUDE E NÃO ESTAVAMOS PREPARADOS 2 DIAS PRA SUBIR
B13: PUNO | C13: ILHAS UROS E TAQUILE - LAGO TITICACA | D13: 8 | E13: DA PRA FAZER AS DUAS ILHAS NO MESMO DIA
B14: CUSCO | C14: VALE SAGRADO | D14: 9 | E14: PASSEIO 1 DIA VALE SAGRADO 5 PONTOS PRA CONHECER, MUITO BOM
B15: CUSCO | C15: CUSCO X ÁGUASCALIENTES | D15: 8 | E15: FIZEMOS PELO CAMINHO DA HIDRELÉTRICA UM DIA PRA CHEGAR EM ÁGUAS CALIENTES, UM DIA MATCHU PICCHU E OUTRO DIA PRA VOLTAR, AS VAN SÃO RUIN E TUDO MUITO DESORGANIZADO, VALE A PENA POR QUE SAI MUITO MAIS BARATO, POIS, ESTA PARTE DA VIAGEM É A MAIS CARA. O CAMINHO PELOS TRILHOS É BEM INTERESSANTE TEM APROXIMADAMENTE 10Km, MEHOR PARTE QUANDO O TREM VEM E TEMOS Q IR PARA O CANTO DOS TRILHOS
... B18: CUSCO | C18: MONTANHAS COLORIDAS | D18: 10 | E18: EXCELENTE PASSEIO, PODE USAR CAVALSO A 60 SOLES E ATINGE A ALTITUDE DE 5.100m DURA O DIA TODO

Sheet FOTOS
B2: LIMA
B22: HUARAZ
B42: TRUJILLO
B62: CHACHAPOYAS
B82: ICA
B102: CHIVAY
B122: PUNO
B142: CUSCO
